BEGIN:VCALENDAR
VERSION:2.0
PRODID:-//ProNovos - ECPv6.2.8.2//NONSGML v1.0//EN
CALSCALE:GREGORIAN
METHOD:PUBLISH
X-ORIGINAL-URL:https://pronovos.com
X-WR-CALDESC:Events for ProNovos
REFRESH-INTERVAL;VALUE=DURATION:PT1H
X-Robots-Tag:noindex
X-PUBLISHED-TTL:PT1H
BEGIN:VTIMEZONE
TZID:America/New_York
BEGIN:DAYLIGHT
TZOFFSETFROM:-0500
TZOFFSETTO:-0400
TZNAME:EDT
DTSTART:20260308T070000
END:DAYLIGHT
BEGIN:STANDARD
TZOFFSETFROM:-0400
TZOFFSETTO:-0500
TZNAME:EST
DTSTART:20261101T060000
END:STANDARD
END:VTIMEZONE
BEGIN:VEVENT
DTSTART;TZID=America/New_York:20260113T140000
DTEND;TZID=America/New_York:20260113T150000
DTSTAMP:20260425T180406
CREATED:20251208T152029Z
LAST-MODIFIED:20251222T192936Z
UID:15342-1768312800-1768316400@pronovos.com
SUMMARY:Your ERP Isn’t the Problem: How to Build a Smarter Tech Stack Without Replacing It
DESCRIPTION:Struggling with ERP reports or WIP automation? You’re not alone. \nMany construction financial professionals expect their ERP to do it all\, only to end up with siloed data\, buried in spreadsheets\, and manual updates. Project managers need visibility into job performance\, but construction financial professionals can’t risk granting them full access to accounting systems. The result is constant tension between the field and the office\, and a growing belief that the only solution is replacing your ERP. \nYour ERP isn’t broken. It was built to manage accounting\, not automate reporting or provide dashboards. What’s missing is a layer of financial intelligence that turns your data into clear insights your team can use. \nJoin Kathryn Hall\, Controller with Bandy Constructors\, and Samantha Lake\, COO\, ProNovos Financial Intelligence\, as they show how construction companies are improving performance without replacing their ERP. \nYou’ll Learn \n\nWhy end-to-end ERP systems often fall short for construction accounting and operations\nHow modular\, plug-and-play tools extend the value of your ERP and automate WIP and forecasting\nWhat a connected tech stack looks like for accounting and project teams\nHow this approach improves visibility\, protects profits\, and strengthens collaboration  \n\nRegister \n 
URL:https://pronovos.com/event/your-erp-isnt-the-problem/
LOCATION:Online
ATTACH;FMTTYPE=image/png:https://pronovos.com/wp-content/uploads/2025/12/jan13.png
END:VEVENT
END:VCALENDAR